BEGIN:VCALENDAR
VERSION:2.0
PRODID:-//Diversity Exchange - ECPv6.5.1.5//NONSGML v1.0//EN
CALSCALE:GREGORIAN
METHOD:PUBLISH
X-WR-CALNAME:Diversity Exchange
X-ORIGINAL-URL:https://bradfordforeveryone.co.uk/diversity-exchange
X-WR-CALDESC:Events for Diversity Exchange
REFRESH-INTERVAL;VALUE=DURATION:PT1H
X-Robots-Tag:noindex
X-PUBLISHED-TTL:PT1H
BEGIN:VTIMEZONE
TZID:Europe/London
BEGIN:DAYLIGHT
TZOFFSETFROM:+0000
TZOFFSETTO:+0100
TZNAME:BST
DTSTART:20240331T010000
END:DAYLIGHT
BEGIN:STANDARD
TZOFFSETFROM:+0100
TZOFFSETTO:+0000
TZNAME:GMT
DTSTART:20241027T010000
END:STANDARD
END:VTIMEZONE
BEGIN:VEVENT
DTSTART;VALUE=DATE:20240921
DTEND;VALUE=DATE:20240922
DTSTAMP:20260421T064836
CREATED:20240108T110719Z
LAST-MODIFIED:20240108T110719Z
UID:778-1726876800-1726963199@bradfordforeveryone.co.uk
SUMMARY:International Day of Peace
DESCRIPTION:International Day of Peace – The day aims to promote peace and non-violence among nations and people.
URL:https://bradfordforeveryone.co.uk/diversity-exchange/event/international-day-of-peace/
ATTACH;FMTTYPE=image/png:https://bradfordforeveryone.co.uk/diversity-exchange/wp-content/uploads/2023/07/event-fallback.png
END:VEVENT
BEGIN:VEVENT
DTSTART;VALUE=DATE:20240905
DTEND;VALUE=DATE:20240906
DTSTAMP:20260421T064836
CREATED:20240108T110700Z
LAST-MODIFIED:20240108T110700Z
UID:776-1725494400-1725580799@bradfordforeveryone.co.uk
SUMMARY:Beginning of Rabi-ul-Awwal
DESCRIPTION:Beginning of Rabi-ul-Awwal (Muslim) – Rabi-ul-Awwal is commonly regarded as the month in which Prophet Muhammad (PBUH)was born. Muslims commemorate his life during this month by organising gatherings\, festivals\, events and lectures.
URL:https://bradfordforeveryone.co.uk/diversity-exchange/event/beginning-of-rabi-ul-awwal/
ATTACH;FMTTYPE=image/png:https://bradfordforeveryone.co.uk/diversity-exchange/wp-content/uploads/2023/07/event-fallback.png
END:VEVENT
BEGIN:VEVENT
DTSTART;VALUE=DATE:20240826
DTEND;VALUE=DATE:20240827
DTSTAMP:20260421T064836
CREATED:20240108T110622Z
LAST-MODIFIED:20240108T110622Z
UID:774-1724630400-1724716799@bradfordforeveryone.co.uk
SUMMARY:Krishna Janmashtami
DESCRIPTION:Krishna Janmashtami (Hindu) – celebrating the birthday of Lord Krishna. The date falls in the month of Bhadon\, on the eighth day of the dark fortnight in the Hindu calendar.
URL:https://bradfordforeveryone.co.uk/diversity-exchange/event/krishna-janmashtami/
ATTACH;FMTTYPE=image/png:https://bradfordforeveryone.co.uk/diversity-exchange/wp-content/uploads/2023/07/event-fallback.png
END:VEVENT
BEGIN:VEVENT
DTSTART;VALUE=DATE:20240819
DTEND;VALUE=DATE:20240820
DTSTAMP:20260421T064836
CREATED:20240108T110601Z
LAST-MODIFIED:20240108T110601Z
UID:772-1724025600-1724111999@bradfordforeveryone.co.uk
SUMMARY:Raksha Bandhan
DESCRIPTION:Raksha Bandhan (Hindu) – is all about siblings and showing the love and appreciation towards brothers and sisters.
URL:https://bradfordforeveryone.co.uk/diversity-exchange/event/raksha-bandhan/
ATTACH;FMTTYPE=image/png:https://bradfordforeveryone.co.uk/diversity-exchange/wp-content/uploads/2023/07/event-fallback.png
END:VEVENT
BEGIN:VEVENT
DTSTART;VALUE=DATE:20240812
DTEND;VALUE=DATE:20240813
DTSTAMP:20260421T064836
CREATED:20240108T110540Z
LAST-MODIFIED:20240108T110540Z
UID:770-1723420800-1723507199@bradfordforeveryone.co.uk
SUMMARY:International Youth Day
DESCRIPTION:International Youth Day – A day to spotlight the energy\, initiatives\, and aspirations of young people worldwide while discussing the unique challenges they face in different cultural contexts.
URL:https://bradfordforeveryone.co.uk/diversity-exchange/event/international-youth-day/
ATTACH;FMTTYPE=image/png:https://bradfordforeveryone.co.uk/diversity-exchange/wp-content/uploads/2023/07/event-fallback.png
END:VEVENT
BEGIN:VEVENT
DTSTART;VALUE=DATE:20240809
DTEND;VALUE=DATE:20240810
DTSTAMP:20260421T064836
CREATED:20240108T110522Z
LAST-MODIFIED:20240108T110522Z
UID:768-1723161600-1723247999@bradfordforeveryone.co.uk
SUMMARY:Nagasaki Memorial Day
DESCRIPTION:Nagasaki Memorial Day – This day commemorates the anniversary of the atomic bombing of Nagasaki\, Japan during World War II. It serves as a reminder to promote peace and understanding among nations\, and to never forget the tragic consequences of war.
URL:https://bradfordforeveryone.co.uk/diversity-exchange/event/nagasaki-memorial-day/
ATTACH;FMTTYPE=image/png:https://bradfordforeveryone.co.uk/diversity-exchange/wp-content/uploads/2023/07/event-fallback.png
END:VEVENT
BEGIN:VEVENT
DTSTART;VALUE=DATE:20240806
DTEND;VALUE=DATE:20240807
DTSTAMP:20260421T064836
CREATED:20240108T110450Z
LAST-MODIFIED:20240108T110450Z
UID:766-1722902400-1722988799@bradfordforeveryone.co.uk
SUMMARY:Hiroshima Memorial Day
DESCRIPTION:Hiroshima Memorial Day – to console the victims of the atomic bombs that were dropped on Hiroshima\, Japan on August 6\, 1945\, and to pray for lasting world peace.
URL:https://bradfordforeveryone.co.uk/diversity-exchange/event/hiroshima-memorial-day/
ATTACH;FMTTYPE=image/png:https://bradfordforeveryone.co.uk/diversity-exchange/wp-content/uploads/2023/07/event-fallback.png
END:VEVENT
BEGIN:VEVENT
DTSTART;VALUE=DATE:20240718
DTEND;VALUE=DATE:20240818
DTSTAMP:20260421T064836
CREATED:20240108T110308Z
LAST-MODIFIED:20240108T110308Z
UID:762-1721260800-1723939199@bradfordforeveryone.co.uk
SUMMARY:South Asian Heritage Month
DESCRIPTION:South Asian Heritage Month – to commemorate\, mark and celebrate South Asian cultures\, histories\, and communities\,and to explore the connections between South Asian communities and the UK. In 2024\, the theme of the event is ‘Journeys of Empire’. https://southasianheritage.org.uk/ We also have a local Bradford South Asian Fesitval.
URL:https://bradfordforeveryone.co.uk/diversity-exchange/event/south-asian-heritage-month/
ATTACH;FMTTYPE=image/png:https://bradfordforeveryone.co.uk/diversity-exchange/wp-content/uploads/2023/07/event-fallback.png
END:VEVENT
BEGIN:VEVENT
DTSTART;VALUE=DATE:20240718
DTEND;VALUE=DATE:20240719
DTSTAMP:20260421T064836
CREATED:20240108T110332Z
LAST-MODIFIED:20240108T110332Z
UID:764-1721260800-1721347199@bradfordforeveryone.co.uk
SUMMARY:Nelson Mandela Day
DESCRIPTION:Nelson Mandela Day – A global observance to honour Mandela’s legacy\, encouraging individual and collective actions to fight injustice and promote social equality.
URL:https://bradfordforeveryone.co.uk/diversity-exchange/event/nelson-mandela-day/
ATTACH;FMTTYPE=image/png:https://bradfordforeveryone.co.uk/diversity-exchange/wp-content/uploads/2023/07/event-fallback.png
END:VEVENT
BEGIN:VEVENT
DTSTART;VALUE=DATE:20240717
DTEND;VALUE=DATE:20240718
DTSTAMP:20260421T064836
CREATED:20240108T110238Z
LAST-MODIFIED:20240108T110238Z
UID:760-1721174400-1721260799@bradfordforeveryone.co.uk
SUMMARY:International Day for International Justice
DESCRIPTION:International Day for International Justice – is to recognise and honour the increasing importance and use of international criminal justice and marks the anniversary of the treaty that created the International Criminal Court.
URL:https://bradfordforeveryone.co.uk/diversity-exchange/event/international-day-for-international-justice/
ATTACH;FMTTYPE=image/png:https://bradfordforeveryone.co.uk/diversity-exchange/wp-content/uploads/2023/07/event-fallback.png
END:VEVENT
BEGIN:VEVENT
DTSTART;VALUE=DATE:20240715
DTEND;VALUE=DATE:20240716
DTSTAMP:20260421T064836
CREATED:20240108T110209Z
LAST-MODIFIED:20240108T110209Z
UID:758-1721001600-1721087999@bradfordforeveryone.co.uk
SUMMARY:World Youth Skills Day
DESCRIPTION:World Youth Skills Day – Campaigning for young people to get the skills they need to flourish.
URL:https://bradfordforeveryone.co.uk/diversity-exchange/event/world-youth-skills-day/
ATTACH;FMTTYPE=image/png:https://bradfordforeveryone.co.uk/diversity-exchange/wp-content/uploads/2023/07/event-fallback.png
END:VEVENT
BEGIN:VEVENT
DTSTART;VALUE=DATE:20240711
DTEND;VALUE=DATE:20240712
DTSTAMP:20260421T064836
CREATED:20240108T110141Z
LAST-MODIFIED:20240108T110141Z
UID:756-1720656000-1720742399@bradfordforeveryone.co.uk
SUMMARY:Srebrenica Memorial Day
DESCRIPTION:Srebrenica Memorial Day -commemorates the Srebrenica massacre which occurred in July 1995 during the Bosnian war. Around 8\,000 men and boys of a Muslim Bosniak background were killed by forces of the Bosnian Serb army. https://srebrenica.org.uk/
URL:https://bradfordforeveryone.co.uk/diversity-exchange/event/srebrenica-memorial-day/
ATTACH;FMTTYPE=image/png:https://bradfordforeveryone.co.uk/diversity-exchange/wp-content/uploads/2023/07/event-fallback.png
END:VEVENT
BEGIN:VEVENT
DTSTART;VALUE=DATE:20240706
DTEND;VALUE=DATE:20240707
DTSTAMP:20260421T064836
CREATED:20240108T110117Z
LAST-MODIFIED:20240108T110117Z
UID:754-1720224000-1720310399@bradfordforeveryone.co.uk
SUMMARY:Muharram
DESCRIPTION:Muharram (Islamic New Year) – Muslim- The first month in the Islamic lunar calendar is Muharram\, one of the 4 sacred months. Muharram is a month dedicated to lessons of generosity\, sacrifice and mourning dedicated to the martyrdom of the Prophet Muhammad’s (PBUH)family and companions during the battle of Karbala. Muharram also marks the month in which the Prophet Nuh (Noah) left the ark and the month Prophet Musa (Moses) was saved from the Pharaoh of Egypt.
URL:https://bradfordforeveryone.co.uk/diversity-exchange/event/muharram/
ATTACH;FMTTYPE=image/png:https://bradfordforeveryone.co.uk/diversity-exchange/wp-content/uploads/2023/07/event-fallback.png
END:VEVENT
BEGIN:VEVENT
DTSTART;VALUE=DATE:20240629
DTEND;VALUE=DATE:20240630
DTSTAMP:20260421T064836
CREATED:20240108T105348Z
LAST-MODIFIED:20240108T105348Z
UID:752-1719619200-1719705599@bradfordforeveryone.co.uk
SUMMARY:Armed Forces Day
DESCRIPTION:Armed Forces Day – is a chance to show your support for the men and women who make up the Armed Forces community: from currently serving troops to Service families\, veterans and cadets.
URL:https://bradfordforeveryone.co.uk/diversity-exchange/event/armed-forces-day/
ATTACH;FMTTYPE=image/png:https://bradfordforeveryone.co.uk/diversity-exchange/wp-content/uploads/2023/07/event-fallback.png
END:VEVENT
BEGIN:VEVENT
DTSTART;VALUE=DATE:20240628
DTEND;VALUE=DATE:20240708
DTSTAMP:20260421T064836
CREATED:20240108T105328Z
LAST-MODIFIED:20240108T105328Z
UID:750-1719532800-1720396799@bradfordforeveryone.co.uk
SUMMARY:Bradford Literature
DESCRIPTION:Bradford Literature – is an annual festival and year-round cultural outreach programme encompassing the best of literature\, music\, theatre\, cultural discussions\, lectures and family events. The festival is unique in the country for its diverse and imaginative approach to high-quality arts and cultural programming. Festivalhttps://www.bradfordlitfest.co.uk/
URL:https://bradfordforeveryone.co.uk/diversity-exchange/event/bradford-literature/
ATTACH;FMTTYPE=image/png:https://bradfordforeveryone.co.uk/diversity-exchange/wp-content/uploads/2023/07/event-fallback.png
END:VEVENT
BEGIN:VEVENT
DTSTART;VALUE=DATE:20240624
DTEND;VALUE=DATE:20240701
DTSTAMP:20260421T064836
CREATED:20240108T105302Z
LAST-MODIFIED:20240108T105302Z
UID:748-1719187200-1719791999@bradfordforeveryone.co.uk
SUMMARY:World Wellbeing Week
DESCRIPTION:World Wellbeing Week – is to provide the opportunity to celebrate the many aspects of wellbeing\, from meaningful\, purposeful work to financial security\, physical\, mental and emotional health\, social resilience and empathic corporate and civic leadership\, community relations and care for the environment.
URL:https://bradfordforeveryone.co.uk/diversity-exchange/event/world-wellbeing-week/
ATTACH;FMTTYPE=image/png:https://bradfordforeveryone.co.uk/diversity-exchange/wp-content/uploads/2023/07/event-fallback.png
END:VEVENT
BEGIN:VEVENT
DTSTART;VALUE=DATE:20240622
DTEND;VALUE=DATE:20240623
DTSTAMP:20260421T064836
CREATED:20240108T105240Z
LAST-MODIFIED:20240108T105240Z
UID:746-1719014400-1719100799@bradfordforeveryone.co.uk
SUMMARY:National Windrush Day
DESCRIPTION:National Windrush Day (although can be celebrated anytime of the year) – This marks the day when\, in 1948\, over 490 people from the Caribbean arrived in England to start new lives in the United Kingdom. In the subsequent years\, Britain invited many people from across the British Empire. On this day\, we pay our respects to the important contribution these people and their children have made to Britain.
URL:https://bradfordforeveryone.co.uk/diversity-exchange/event/national-windrush-day/
ATTACH;FMTTYPE=image/png:https://bradfordforeveryone.co.uk/diversity-exchange/wp-content/uploads/2023/07/event-fallback.png
END:VEVENT
BEGIN:VEVENT
DTSTART;VALUE=DATE:20240621
DTEND;VALUE=DATE:20240622
DTSTAMP:20260421T064836
CREATED:20240108T105215Z
LAST-MODIFIED:20240108T105215Z
UID:744-1718928000-1719014399@bradfordforeveryone.co.uk
SUMMARY:Humanist Day
DESCRIPTION:Humanist Day – is an opportunity for humanists and humanist organisations to publicise the positive values of Humanism and to share the global concerns of the Humanist movement.
URL:https://bradfordforeveryone.co.uk/diversity-exchange/event/humanist-day/
ATTACH;FMTTYPE=image/png:https://bradfordforeveryone.co.uk/diversity-exchange/wp-content/uploads/2023/07/event-fallback.png
END:VEVENT
BEGIN:VEVENT
DTSTART;VALUE=DATE:20240620
DTEND;VALUE=DATE:20240621
DTSTAMP:20260421T064836
CREATED:20240108T105139Z
LAST-MODIFIED:20240108T105139Z
UID:742-1718841600-1718927999@bradfordforeveryone.co.uk
SUMMARY:World Refugee Day
DESCRIPTION:World Refugee Day – is a global observance that seeks to raise awareness and show support for the millions of refugees worldwide who flee conflict\, persecution\, and hardship in search of safety and dignity.
URL:https://bradfordforeveryone.co.uk/diversity-exchange/event/world-refugee-day/
ATTACH;FMTTYPE=image/png:https://bradfordforeveryone.co.uk/diversity-exchange/wp-content/uploads/2023/07/event-fallback.png
END:VEVENT
BEGIN:VEVENT
DTSTART;VALUE=DATE:20240617
DTEND;VALUE=DATE:20240624
DTSTAMP:20260421T064836
CREATED:20240108T105114Z
LAST-MODIFIED:20240108T105114Z
UID:740-1718582400-1719187199@bradfordforeveryone.co.uk
SUMMARY:Learning Disability Week
DESCRIPTION:Learning Disability Week – is to educate\, spread awareness\, and increase understanding of learning disabilities.The theme for 2024 is ‘Living life with a learning disability’. https://nationaltoday.com/learning-disability-week/
URL:https://bradfordforeveryone.co.uk/diversity-exchange/event/learning-disability-week/
ATTACH;FMTTYPE=image/png:https://bradfordforeveryone.co.uk/diversity-exchange/wp-content/uploads/2023/07/event-fallback.png
END:VEVENT
BEGIN:VEVENT
DTSTART;VALUE=DATE:20240617
DTEND;VALUE=DATE:20240624
DTSTAMP:20260421T064836
CREATED:20240108T105053Z
LAST-MODIFIED:20240108T105053Z
UID:738-1718582400-1719187199@bradfordforeveryone.co.uk
SUMMARY:Refugee Week
DESCRIPTION:Refugee Week – is the world’s largest arts & culture festival celebrating the contributions\, creativity and resilience of refugees and people seeking sanctuary. The theme for Refugee Week 2024 is “Our Home”. From the places we gather to share meals to our collective home\, planet earth: everyone is invited to celebrate what our Our Home means to them. https://refugeeweek.org.uk/
URL:https://bradfordforeveryone.co.uk/diversity-exchange/event/refugee-week/
ATTACH;FMTTYPE=image/png:https://bradfordforeveryone.co.uk/diversity-exchange/wp-content/uploads/2023/07/event-fallback.png
END:VEVENT
BEGIN:VEVENT
DTSTART;VALUE=DATE:20240616
DTEND;VALUE=DATE:20240619
DTSTAMP:20260421T064836
CREATED:20240108T105003Z
LAST-MODIFIED:20240108T105003Z
UID:734-1718496000-1718755199@bradfordforeveryone.co.uk
SUMMARY:Eid al-Adha
DESCRIPTION:Eid al-Adha (Muslim – Can change a day earlier or later due to the sighting of the moon) – One of the holiest days in Islam\, Eid al-Adha commemorates Ibrahim’s (Abraham’s) willingness to sacrifice his son for God\, marked by prayers\, charity\, and community gatherings.
URL:https://bradfordforeveryone.co.uk/diversity-exchange/event/eid-al-adha/
ATTACH;FMTTYPE=image/png:https://bradfordforeveryone.co.uk/diversity-exchange/wp-content/uploads/2023/07/event-fallback.png
END:VEVENT
BEGIN:VEVENT
DTSTART;VALUE=DATE:20240616
DTEND;VALUE=DATE:20240617
DTSTAMP:20260421T064836
CREATED:20240108T105027Z
LAST-MODIFIED:20240108T105027Z
UID:736-1718496000-1718582399@bradfordforeveryone.co.uk
SUMMARY:Martydom of Guru Arjan Dev Sahib
DESCRIPTION:Martydom of Guru Arjan Dev Sahib (Sikh)- It’s the day to commemorate and celebrate the life of religious figure Guru Arjan Dev who sacrificed his life for the Sikh people.
URL:https://bradfordforeveryone.co.uk/diversity-exchange/event/martydom-of-guru-arjan-dev-sahib/
ATTACH;FMTTYPE=image/png:https://bradfordforeveryone.co.uk/diversity-exchange/wp-content/uploads/2023/07/event-fallback.png
END:VEVENT
BEGIN:VEVENT
DTSTART;VALUE=DATE:20240615
DTEND;VALUE=DATE:20240616
DTSTAMP:20260421T064836
CREATED:20240108T104909Z
LAST-MODIFIED:20240108T104909Z
UID:732-1718409600-1718495999@bradfordforeveryone.co.uk
SUMMARY:National Clean Air Day
DESCRIPTION:National Clean Air Day – is a chance to find out more about air pollution\, share information with friends and colleagues\, and help make the air cleaner and healthier for everyone. https://www.actionforcleanair.org.uk/campaigns/clean-air-day
URL:https://bradfordforeveryone.co.uk/diversity-exchange/event/national-clean-air-day/
ATTACH;FMTTYPE=image/png:https://bradfordforeveryone.co.uk/diversity-exchange/wp-content/uploads/2023/07/event-fallback.png
END:VEVENT
BEGIN:VEVENT
DTSTART;VALUE=DATE:20240615
DTEND;VALUE=DATE:20240616
DTSTAMP:20260421T064836
CREATED:20240108T104725Z
LAST-MODIFIED:20240108T104725Z
UID:726-1718409600-1718495999@bradfordforeveryone.co.uk
SUMMARY:World Elder Abuse Day
DESCRIPTION:World Elder Abuse Day – A day to spotlight the often-overlooked issue of elder abuse\, promoting the welfare and rights of the older generation.
URL:https://bradfordforeveryone.co.uk/diversity-exchange/event/world-elder-abuse-day/
ATTACH;FMTTYPE=image/png:https://bradfordforeveryone.co.uk/diversity-exchange/wp-content/uploads/2023/07/event-fallback.png
END:VEVENT
BEGIN:VEVENT
DTSTART;VALUE=DATE:20240614
DTEND;VALUE=DATE:20240620
DTSTAMP:20260421T064836
CREATED:20240108T104847Z
LAST-MODIFIED:20240108T104847Z
UID:730-1718323200-1718841599@bradfordforeveryone.co.uk
SUMMARY:Hajj
DESCRIPTION:Hajj (Muslim)- is the obligatory pilgrimage to Makkah\, Saudi Arabia\, that all Muslims must perform once in their lifetime if they are physically and financially capable. It involves performing a series of rituals by millions of Muslims simultaneously\, symbolising solidarity and equality between all people. The complete submission to Allah brings a renewal and strength of one’s faith and spirituality.
URL:https://bradfordforeveryone.co.uk/diversity-exchange/event/hajj/
ATTACH;FMTTYPE=image/png:https://bradfordforeveryone.co.uk/diversity-exchange/wp-content/uploads/2023/07/event-fallback.png
END:VEVENT
BEGIN:VEVENT
DTSTART;VALUE=DATE:20240613
DTEND;VALUE=DATE:20240614
DTSTAMP:20260421T064836
CREATED:20240108T104746Z
LAST-MODIFIED:20240108T104746Z
UID:728-1718236800-1718323199@bradfordforeveryone.co.uk
SUMMARY:Social Mobility Awareness Day
DESCRIPTION:Social Mobility Awareness Day -is an initiative organised by Making The Leap\, which exists to help raise the awareness of social mobility and encourage organisations to share their social mobility stories with the public.https://makingtheleap.org.uk/social-mobility-day/
URL:https://bradfordforeveryone.co.uk/diversity-exchange/event/social-mobility-awareness-day/
ATTACH;FMTTYPE=image/png:https://bradfordforeveryone.co.uk/diversity-exchange/wp-content/uploads/2023/07/event-fallback.png
END:VEVENT
BEGIN:VEVENT
DTSTART;VALUE=DATE:20240612
DTEND;VALUE=DATE:20240619
DTSTAMP:20260421T064836
CREATED:20240108T104636Z
LAST-MODIFIED:20240108T104636Z
UID:722-1718150400-1718755199@bradfordforeveryone.co.uk
SUMMARY:Mens Health Awareness Week
DESCRIPTION:Mens Health Awareness Week – is a dedicated week that shines a spotlight on the unique health concerns impacting men. Men’s Health Week encourages men to take charge of their well-being\, make informed decisions about their lifestyle choices\, and seek appropriate medical support when needed.
URL:https://bradfordforeveryone.co.uk/diversity-exchange/event/mens-health-awareness-week/
ATTACH;FMTTYPE=image/png:https://bradfordforeveryone.co.uk/diversity-exchange/wp-content/uploads/2023/07/event-fallback.png
END:VEVENT
BEGIN:VEVENT
DTSTART;VALUE=DATE:20240612
DTEND;VALUE=DATE:20240613
DTSTAMP:20260421T064836
CREATED:20240108T104657Z
LAST-MODIFIED:20240108T104657Z
UID:724-1718150400-1718236799@bradfordforeveryone.co.uk
SUMMARY:Shavuot
DESCRIPTION:Shavuot (Jewish\, also could be the 11- 13 June) – is the feast of weeks\, is celebrated seven weeks after the second Passover seder. Although Shavuot began as an ancient grain harvest festival\, the holiday has been identified since biblical times with the giving of the Torah on Mount Sinai.
URL:https://bradfordforeveryone.co.uk/diversity-exchange/event/shavuot/
ATTACH;FMTTYPE=image/png:https://bradfordforeveryone.co.uk/diversity-exchange/wp-content/uploads/2023/07/event-fallback.png
END:VEVENT
BEGIN:VEVENT
DTSTART;VALUE=DATE:20240610
DTEND;VALUE=DATE:20240617
DTSTAMP:20260421T064836
CREATED:20240108T104529Z
LAST-MODIFIED:20240108T104529Z
UID:720-1717977600-1718582399@bradfordforeveryone.co.uk
SUMMARY:Carers Week
DESCRIPTION:Carers Week -is an annual campaign to raise awareness of caring\, highlighting the challenges unpaid carers face and recognise the contribution they make to families and communities throughout the UK. The theme for 2024 is ‘Recognising and supporting carers in the community’. https://www.carersuk.org/news-and-campaigns/our-campaigns/carers-week/
URL:https://bradfordforeveryone.co.uk/diversity-exchange/event/carers-week/
ATTACH;FMTTYPE=image/png:https://bradfordforeveryone.co.uk/diversity-exchange/wp-content/uploads/2023/07/event-fallback.png
END:VEVENT
END:VCALENDAR