BEGIN:VCALENDAR
VERSION:2.0
PRODID:-//Diversity Exchange - ECPv6.5.1.5//NONSGML v1.0//EN
CALSCALE:GREGORIAN
METHOD:PUBLISH
X-WR-CALNAME:Diversity Exchange
X-ORIGINAL-URL:https://bradfordforeveryone.co.uk/diversity-exchange
X-WR-CALDESC:Events for Diversity Exchange
REFRESH-INTERVAL;VALUE=DURATION:PT1H
X-Robots-Tag:noindex
X-PUBLISHED-TTL:PT1H
BEGIN:VTIMEZONE
TZID:Europe/London
BEGIN:DAYLIGHT
TZOFFSETFROM:+0000
TZOFFSETTO:+0100
TZNAME:BST
DTSTART:20240331T010000
END:DAYLIGHT
BEGIN:STANDARD
TZOFFSETFROM:+0100
TZOFFSETTO:+0000
TZNAME:GMT
DTSTART:20241027T010000
END:STANDARD
END:VTIMEZONE
BEGIN:VEVENT
DTSTART;VALUE=DATE:20241125
DTEND;VALUE=DATE:20241126
DTSTAMP:20260421T052242
CREATED:20240108T112117Z
LAST-MODIFIED:20240108T112117Z
UID:834-1732492800-1732579199@bradfordforeveryone.co.uk
SUMMARY:International Day for Elimination of Violence Against Women
DESCRIPTION:International Day for Elimination of Violence Against Women – A global day to combat gender-based violence\, emphasizing the pressing need for collective action and intersectional feminism. This also marks the 16 Days of Activism against Gender-Based Violence is an annual international campaign that kicks off on 25 November\, the International Day for the Elimination of Violence against Women\, and runs until 10 December\, Human Rights Day.
URL:https://bradfordforeveryone.co.uk/diversity-exchange/event/international-day-for-elimination-of-violence-against-women/
ATTACH;FMTTYPE=image/png:https://bradfordforeveryone.co.uk/diversity-exchange/wp-content/uploads/2023/07/event-fallback.png
END:VEVENT
BEGIN:VEVENT
DTSTART;VALUE=DATE:20241120
DTEND;VALUE=DATE:20241121
DTSTAMP:20260421T052242
CREATED:20240108T112051Z
LAST-MODIFIED:20240108T112051Z
UID:832-1732060800-1732147199@bradfordforeveryone.co.uk
SUMMARY:World Children's Day
DESCRIPTION:World Children’s Day is both a reminder and a celebration of the rights of children worldwide. In World Children’s Day 2024\, there’s a unique alignment with the UN Sustainable Development Goals (SDGs) to create an environment where every child can thrive..
URL:https://bradfordforeveryone.co.uk/diversity-exchange/event/world-childrens-day/
ATTACH;FMTTYPE=image/png:https://bradfordforeveryone.co.uk/diversity-exchange/wp-content/uploads/2023/07/event-fallback.png
END:VEVENT
BEGIN:VEVENT
DTSTART;VALUE=DATE:20241120
DTEND;VALUE=DATE:20241121
DTSTAMP:20260421T052242
CREATED:20240108T112025Z
LAST-MODIFIED:20240108T112025Z
UID:830-1732060800-1732147199@bradfordforeveryone.co.uk
SUMMARY:Transgender Day of Remembranc
DESCRIPTION:Transgender Day of Remembrance – A solemn day to memorialize those lost to anti-transgender violence\, advocating for safer and more inclusive environments.
URL:https://bradfordforeveryone.co.uk/diversity-exchange/event/transgender-day-of-remembranc/
ATTACH;FMTTYPE=image/png:https://bradfordforeveryone.co.uk/diversity-exchange/wp-content/uploads/2023/07/event-fallback.png
END:VEVENT
BEGIN:VEVENT
DTSTART;VALUE=DATE:20241119
DTEND;VALUE=DATE:20241120
DTSTAMP:20260421T052242
CREATED:20240108T112002Z
LAST-MODIFIED:20240108T112002Z
UID:828-1731974400-1732060799@bradfordforeveryone.co.uk
SUMMARY:International Mens Day
DESCRIPTION:International Mens Day – focuses on men’s health\, improving gender relations\, highlighting male role models\, and promoting positive expressions of masculinity.
URL:https://bradfordforeveryone.co.uk/diversity-exchange/event/international-mens-day/
ATTACH;FMTTYPE=image/png:https://bradfordforeveryone.co.uk/diversity-exchange/wp-content/uploads/2023/07/event-fallback.png
END:VEVENT
BEGIN:VEVENT
DTSTART;VALUE=DATE:20241115
DTEND;VALUE=DATE:20241116
DTSTAMP:20260421T052242
CREATED:20240108T111901Z
LAST-MODIFIED:20240108T111901Z
UID:824-1731628800-1731715199@bradfordforeveryone.co.uk
SUMMARY:Guru Nanak's Birthday
DESCRIPTION:Guru Nanak’s Birthday (Sikh)- also known as Bābā Nānak\, was the founder of Sikhism and is the first of the ten Sikh Gurus.
URL:https://bradfordforeveryone.co.uk/diversity-exchange/event/guru-nanaks-birthday/
ATTACH;FMTTYPE=image/png:https://bradfordforeveryone.co.uk/diversity-exchange/wp-content/uploads/2023/07/event-fallback.png
END:VEVENT
BEGIN:VEVENT
DTSTART;VALUE=DATE:20241114
DTEND;VALUE=DATE:20241121
DTSTAMP:20260421T052242
CREATED:20240108T111834Z
LAST-MODIFIED:20240108T111834Z
UID:822-1731542400-1732147199@bradfordforeveryone.co.uk
SUMMARY:Baby Week
DESCRIPTION:Baby Week- to campaign and promote the best start in life. The initiative enables us to listen to parents and carers to enhance the way we work in maternity and early years. https://babyweek.co.uk/
URL:https://bradfordforeveryone.co.uk/diversity-exchange/event/baby-week/
ATTACH;FMTTYPE=image/png:https://bradfordforeveryone.co.uk/diversity-exchange/wp-content/uploads/2023/07/event-fallback.png
END:VEVENT
BEGIN:VEVENT
DTSTART;VALUE=DATE:20241113
DTEND;VALUE=DATE:20241120
DTSTAMP:20260421T052242
CREATED:20240108T111654Z
LAST-MODIFIED:20240108T111654Z
UID:814-1731456000-1732060799@bradfordforeveryone.co.uk
SUMMARY:Transgender Awareness Week
DESCRIPTION:Transgender Awareness Week – is a one-week celebration leading up to the Transgender Day of Remembrance (TDoR)\, which memorializes victims of transphobic violence.
URL:https://bradfordforeveryone.co.uk/diversity-exchange/event/transgender-awareness-week/
ATTACH;FMTTYPE=image/png:https://bradfordforeveryone.co.uk/diversity-exchange/wp-content/uploads/2023/07/event-fallback.png
END:VEVENT
BEGIN:VEVENT
DTSTART;VALUE=DATE:20241113
DTEND;VALUE=DATE:20241114
DTSTAMP:20260421T052242
CREATED:20240108T111741Z
LAST-MODIFIED:20240108T111741Z
UID:818-1731456000-1731542399@bradfordforeveryone.co.uk
SUMMARY:World Kindness Day
DESCRIPTION:World Kindness Day – It’s a day to remind ourselves of the importance of being kind to others.
URL:https://bradfordforeveryone.co.uk/diversity-exchange/event/world-kindness-day/
ATTACH;FMTTYPE=image/png:https://bradfordforeveryone.co.uk/diversity-exchange/wp-content/uploads/2023/07/event-fallback.png
END:VEVENT
BEGIN:VEVENT
DTSTART;VALUE=DATE:20241112
DTEND;VALUE=DATE:20241120
DTSTAMP:20260421T052242
CREATED:20240108T111808Z
LAST-MODIFIED:20240108T111808Z
UID:820-1731369600-1732060799@bradfordforeveryone.co.uk
SUMMARY:Interfaith Week
DESCRIPTION:Interfaith Week – to celebrate co-operation and deepen friendship and understanding between faiths with a focus on environmental protection. https://www.interfaithweek.org/
URL:https://bradfordforeveryone.co.uk/diversity-exchange/event/interfaith-week/
ATTACH;FMTTYPE=image/png:https://bradfordforeveryone.co.uk/diversity-exchange/wp-content/uploads/2023/07/event-fallback.png
END:VEVENT
BEGIN:VEVENT
DTSTART;VALUE=DATE:20241111
DTEND;VALUE=DATE:20241112
DTSTAMP:20260421T052242
CREATED:20240108T111712Z
LAST-MODIFIED:20240108T111712Z
UID:816-1731283200-1731369599@bradfordforeveryone.co.uk
SUMMARY:Remembrance Sunday
DESCRIPTION:Remembrance Sunday – is a national opportunity to remember the service and sacrifice of all those that have defended our freedoms and protected our way of life.
URL:https://bradfordforeveryone.co.uk/diversity-exchange/event/remembrance-sunday/
ATTACH;FMTTYPE=image/png:https://bradfordforeveryone.co.uk/diversity-exchange/wp-content/uploads/2023/07/event-fallback.png
END:VEVENT
BEGIN:VEVENT
DTSTART;VALUE=DATE:20241101
DTEND;VALUE=DATE:20241102
DTSTAMP:20260421T052242
CREATED:20240108T111630Z
LAST-MODIFIED:20240108T111630Z
UID:812-1730419200-1730505599@bradfordforeveryone.co.uk
SUMMARY:Bandi Chhorh Diwas
DESCRIPTION:Bandi Chhorh Diwas (Sikh) – Commemorates the release of the sixth Sikh guru\, Sri Guru Hargobind Ji\, from prison. Sikhs continue this annual celebration with lamps being lit outside gurdwaras and sweets distributed to all. This coincides with Diwali.
URL:https://bradfordforeveryone.co.uk/diversity-exchange/event/bandi-chhorh-diwas/
ATTACH;FMTTYPE=image/png:https://bradfordforeveryone.co.uk/diversity-exchange/wp-content/uploads/2023/07/event-fallback.png
END:VEVENT
BEGIN:VEVENT
DTSTART;VALUE=DATE:20241101
DTEND;VALUE=DATE:20241102
DTSTAMP:20260421T052242
CREATED:20240108T111548Z
LAST-MODIFIED:20240108T111548Z
UID:808-1730419200-1730505599@bradfordforeveryone.co.uk
SUMMARY:Diwali
DESCRIPTION:Diwali -(Hindu) – Also known as the “Festival of lights”\, Diwali is the biggest festival in the Hindu calendar\, signifying triumph of light over darkness. For some Hindus it also coincides with New Year celebrations.
URL:https://bradfordforeveryone.co.uk/diversity-exchange/event/diwali/
ATTACH;FMTTYPE=image/png:https://bradfordforeveryone.co.uk/diversity-exchange/wp-content/uploads/2023/07/event-fallback.png
END:VEVENT
BEGIN:VEVENT
DTSTART;VALUE=DATE:20241024
DTEND;VALUE=DATE:20241026
DTSTAMP:20260421T052242
CREATED:20240108T111500Z
LAST-MODIFIED:20240108T111500Z
UID:806-1729728000-1729900799@bradfordforeveryone.co.uk
SUMMARY:Simchat Torah
DESCRIPTION:Simchat Torah (Jewish) Celebrates the conclusion of the annual cycle of reading the Torah and the beginning of the new cycle.
URL:https://bradfordforeveryone.co.uk/diversity-exchange/event/simchat-torah/
ATTACH;FMTTYPE=image/png:https://bradfordforeveryone.co.uk/diversity-exchange/wp-content/uploads/2023/07/event-fallback.png
END:VEVENT
BEGIN:VEVENT
DTSTART;VALUE=DATE:20241018
DTEND;VALUE=DATE:20241019
DTSTAMP:20260421T052242
CREATED:20240108T111437Z
LAST-MODIFIED:20240108T111437Z
UID:804-1729209600-1729295999@bradfordforeveryone.co.uk
SUMMARY:World Menopause Day
DESCRIPTION:World Menopause Day – to raise awareness about the impact the condition has on the lives of women around the world.
URL:https://bradfordforeveryone.co.uk/diversity-exchange/event/world-menopause-day/
ATTACH;FMTTYPE=image/png:https://bradfordforeveryone.co.uk/diversity-exchange/wp-content/uploads/2023/07/event-fallback.png
END:VEVENT
BEGIN:VEVENT
DTSTART;VALUE=DATE:20241017
DTEND;VALUE=DATE:20241018
DTSTAMP:20260421T052242
CREATED:20240108T111335Z
LAST-MODIFIED:20240108T111335Z
UID:802-1729123200-1729209599@bradfordforeveryone.co.uk
SUMMARY:Kathina
DESCRIPTION:Kathina (Buddhism) – The Kathina robe offering ceremony marks the end of vassa or the Buddhist Lent\, the three months rainy season retreat observed by the Sangha or Buddhist monks. It originated 2\,500 years ago and is celebrated by the giving of alms and offering of robes to the monks who observed the retreat\, who in turn deliver sermons to the lay supporters.
URL:https://bradfordforeveryone.co.uk/diversity-exchange/event/kathina/
ATTACH;FMTTYPE=image/png:https://bradfordforeveryone.co.uk/diversity-exchange/wp-content/uploads/2023/07/event-fallback.png
END:VEVENT
BEGIN:VEVENT
DTSTART;VALUE=DATE:20241016
DTEND;VALUE=DATE:20241024
DTSTAMP:20260421T052242
CREATED:20240108T111306Z
LAST-MODIFIED:20240108T111306Z
UID:800-1729036800-1729727999@bradfordforeveryone.co.uk
SUMMARY:Sukkot
DESCRIPTION:Sukkot (Jewish) – The festival is a way to give thanks for a successful harvest\, and is also a reminder of the Exodus – a time when Moses led his people out of slavery in Egypt.\nPeople celebrate Sukkot at home and at a synagogue with family and friends\, with a big meal at the end.
URL:https://bradfordforeveryone.co.uk/diversity-exchange/event/sukkot/
ATTACH;FMTTYPE=image/png:https://bradfordforeveryone.co.uk/diversity-exchange/wp-content/uploads/2023/07/event-fallback.png
END:VEVENT
BEGIN:VEVENT
DTSTART;VALUE=DATE:20241014
DTEND;VALUE=DATE:20241022
DTSTAMP:20260421T052242
CREATED:20240108T111228Z
LAST-MODIFIED:20240108T111228Z
UID:798-1728864000-1729555199@bradfordforeveryone.co.uk
SUMMARY:Hate Crime Awareness Week
DESCRIPTION:Hate Crime Awareness Week – to bring people together to stand in solidarity with those affected by hate crime\, to remember those we have lost\, and support those who need ongoing support. https://bradfordhatecrimealliance.com/ You can also download the Hate Crime app from the website.
URL:https://bradfordforeveryone.co.uk/diversity-exchange/event/hate-crime-awareness-week/
ATTACH;FMTTYPE=image/png:https://bradfordforeveryone.co.uk/diversity-exchange/wp-content/uploads/2023/07/event-fallback.png
END:VEVENT
BEGIN:VEVENT
DTSTART;VALUE=DATE:20241011
DTEND;VALUE=DATE:20241012
DTSTAMP:20260421T052242
CREATED:20240108T111200Z
LAST-MODIFIED:20240108T111200Z
UID:796-1728604800-1728691199@bradfordforeveryone.co.uk
SUMMARY:National Coming Out Day
DESCRIPTION:National Coming Out Day – A day to celebrate coming out as LGBTQ+\, encouraging discussions about the varying challenges and triumphs experienced in different cultural settings.
URL:https://bradfordforeveryone.co.uk/diversity-exchange/event/national-coming-out-day/
ATTACH;FMTTYPE=image/png:https://bradfordforeveryone.co.uk/diversity-exchange/wp-content/uploads/2023/07/event-fallback.png
END:VEVENT
BEGIN:VEVENT
DTSTART;VALUE=DATE:20241011
DTEND;VALUE=DATE:20241012
DTSTAMP:20260421T052242
CREATED:20240108T111130Z
LAST-MODIFIED:20240108T111130Z
UID:794-1728604800-1728691199@bradfordforeveryone.co.uk
SUMMARY:Yom Kippur
DESCRIPTION:Yom Kippur (Jewish) – The Jewish Day of Atonement\, emphasizing the importance of repentance and forgiveness\, sparking conversations about these universal themes across different faiths.
URL:https://bradfordforeveryone.co.uk/diversity-exchange/event/yom-kippur/
ATTACH;FMTTYPE=image/png:https://bradfordforeveryone.co.uk/diversity-exchange/wp-content/uploads/2023/07/event-fallback.png
END:VEVENT
BEGIN:VEVENT
DTSTART;VALUE=DATE:20241010
DTEND;VALUE=DATE:20241017
DTSTAMP:20260421T052242
CREATED:20240108T111036Z
LAST-MODIFIED:20240108T111036Z
UID:792-1728518400-1729123199@bradfordforeveryone.co.uk
SUMMARY:National Braille Week
DESCRIPTION:National Braille Week – to raise awareness of this tactile writing system used by people who are visually impaired.
URL:https://bradfordforeveryone.co.uk/diversity-exchange/event/national-braille-week/
ATTACH;FMTTYPE=image/png:https://bradfordforeveryone.co.uk/diversity-exchange/wp-content/uploads/2023/07/event-fallback.png
END:VEVENT
BEGIN:VEVENT
DTSTART;VALUE=DATE:20241005
DTEND;VALUE=DATE:20241006
DTSTAMP:20260421T052242
CREATED:20240108T111009Z
LAST-MODIFIED:20240108T111009Z
UID:790-1728086400-1728172799@bradfordforeveryone.co.uk
SUMMARY:World Teachers' day
DESCRIPTION:World Teachers’ day – is an international day held annually to celebrate the work of teachers.
URL:https://bradfordforeveryone.co.uk/diversity-exchange/event/world-teachers-day/
ATTACH;FMTTYPE=image/png:https://bradfordforeveryone.co.uk/diversity-exchange/wp-content/uploads/2023/07/event-fallback.png
END:VEVENT
BEGIN:VEVENT
DTSTART;VALUE=DATE:20241003
DTEND;VALUE=DATE:20241013
DTSTAMP:20260421T052242
CREATED:20240108T110949Z
LAST-MODIFIED:20240108T110949Z
UID:788-1727913600-1728777599@bradfordforeveryone.co.uk
SUMMARY:Navarati
DESCRIPTION:Navarati (Hindu) – The celebration of Hindu Goddess Durga and victory of good over evil.
URL:https://bradfordforeveryone.co.uk/diversity-exchange/event/navarati/
ATTACH;FMTTYPE=image/png:https://bradfordforeveryone.co.uk/diversity-exchange/wp-content/uploads/2023/07/event-fallback.png
END:VEVENT
BEGIN:VEVENT
DTSTART;VALUE=DATE:20241002
DTEND;VALUE=DATE:20241005
DTSTAMP:20260421T052242
CREATED:20240108T110918Z
LAST-MODIFIED:20240108T110918Z
UID:786-1727827200-1728086399@bradfordforeveryone.co.uk
SUMMARY:Rosh Hashanah
DESCRIPTION:Rosh Hashanah (Jewish) is a special festival that celebrates Jewish New Year and the start of the 10 days of repentance that precede Yom Kippur.
URL:https://bradfordforeveryone.co.uk/diversity-exchange/event/rosh-hashanah/
ATTACH;FMTTYPE=image/png:https://bradfordforeveryone.co.uk/diversity-exchange/wp-content/uploads/2023/07/event-fallback.png
END:VEVENT
BEGIN:VEVENT
DTSTART;VALUE=DATE:20241001
DTEND;VALUE=DATE:20241101
DTSTAMP:20260421T052242
CREATED:20240108T110840Z
LAST-MODIFIED:20240108T110840Z
UID:784-1727740800-1730419199@bradfordforeveryone.co.uk
SUMMARY:Black History Month
DESCRIPTION:Black History Month – is to celebrate the contributions of Black heritage and culture to UK society as well to expand our understanding of Black history in the UK. https://www.blackhistorymonth.org.uk/
URL:https://bradfordforeveryone.co.uk/diversity-exchange/event/black-history-month/
ATTACH;FMTTYPE=image/png:https://bradfordforeveryone.co.uk/diversity-exchange/wp-content/uploads/2023/07/event-fallback.png
END:VEVENT
BEGIN:VEVENT
DTSTART;VALUE=DATE:20241001
DTEND;VALUE=DATE:20241002
DTSTAMP:20260421T052242
CREATED:20240108T110817Z
LAST-MODIFIED:20240108T110817Z
UID:782-1727740800-1727827199@bradfordforeveryone.co.uk
SUMMARY:International Day of Older Persons
DESCRIPTION:International Day of Older Persons – Raising awareness of the impact of an ageing population and the need to ensure people can grow old with dignity.
URL:https://bradfordforeveryone.co.uk/diversity-exchange/event/international-day-of-older-persons/
ATTACH;FMTTYPE=image/png:https://bradfordforeveryone.co.uk/diversity-exchange/wp-content/uploads/2023/07/event-fallback.png
END:VEVENT
BEGIN:VEVENT
DTSTART;VALUE=DATE:20240921
DTEND;VALUE=DATE:20240922
DTSTAMP:20260421T052242
CREATED:20240108T110719Z
LAST-MODIFIED:20240108T110719Z
UID:778-1726876800-1726963199@bradfordforeveryone.co.uk
SUMMARY:International Day of Peace
DESCRIPTION:International Day of Peace – The day aims to promote peace and non-violence among nations and people.
URL:https://bradfordforeveryone.co.uk/diversity-exchange/event/international-day-of-peace/
ATTACH;FMTTYPE=image/png:https://bradfordforeveryone.co.uk/diversity-exchange/wp-content/uploads/2023/07/event-fallback.png
END:VEVENT
BEGIN:VEVENT
DTSTART;VALUE=DATE:20240917
DTEND;VALUE=DATE:20241003
DTSTAMP:20260421T052242
CREATED:20240108T110742Z
LAST-MODIFIED:20240108T110742Z
UID:780-1726531200-1727913599@bradfordforeveryone.co.uk
SUMMARY:Pitru Paksha
DESCRIPTION:Pitru Paksha (Hindu) – is a 16 days period when Hindu community offer prayers and honor their ancestors.
URL:https://bradfordforeveryone.co.uk/diversity-exchange/event/pitru-paksha/
ATTACH;FMTTYPE=image/png:https://bradfordforeveryone.co.uk/diversity-exchange/wp-content/uploads/2023/07/event-fallback.png
END:VEVENT
BEGIN:VEVENT
DTSTART;VALUE=DATE:20240905
DTEND;VALUE=DATE:20240906
DTSTAMP:20260421T052242
CREATED:20240108T110700Z
LAST-MODIFIED:20240108T110700Z
UID:776-1725494400-1725580799@bradfordforeveryone.co.uk
SUMMARY:Beginning of Rabi-ul-Awwal
DESCRIPTION:Beginning of Rabi-ul-Awwal (Muslim) – Rabi-ul-Awwal is commonly regarded as the month in which Prophet Muhammad (PBUH)was born. Muslims commemorate his life during this month by organising gatherings\, festivals\, events and lectures.
URL:https://bradfordforeveryone.co.uk/diversity-exchange/event/beginning-of-rabi-ul-awwal/
ATTACH;FMTTYPE=image/png:https://bradfordforeveryone.co.uk/diversity-exchange/wp-content/uploads/2023/07/event-fallback.png
END:VEVENT
BEGIN:VEVENT
DTSTART;VALUE=DATE:20240826
DTEND;VALUE=DATE:20240827
DTSTAMP:20260421T052242
CREATED:20240108T110622Z
LAST-MODIFIED:20240108T110622Z
UID:774-1724630400-1724716799@bradfordforeveryone.co.uk
SUMMARY:Krishna Janmashtami
DESCRIPTION:Krishna Janmashtami (Hindu) – celebrating the birthday of Lord Krishna. The date falls in the month of Bhadon\, on the eighth day of the dark fortnight in the Hindu calendar.
URL:https://bradfordforeveryone.co.uk/diversity-exchange/event/krishna-janmashtami/
ATTACH;FMTTYPE=image/png:https://bradfordforeveryone.co.uk/diversity-exchange/wp-content/uploads/2023/07/event-fallback.png
END:VEVENT
BEGIN:VEVENT
DTSTART;VALUE=DATE:20240819
DTEND;VALUE=DATE:20240820
DTSTAMP:20260421T052242
CREATED:20240108T110601Z
LAST-MODIFIED:20240108T110601Z
UID:772-1724025600-1724111999@bradfordforeveryone.co.uk
SUMMARY:Raksha Bandhan
DESCRIPTION:Raksha Bandhan (Hindu) – is all about siblings and showing the love and appreciation towards brothers and sisters.
URL:https://bradfordforeveryone.co.uk/diversity-exchange/event/raksha-bandhan/
ATTACH;FMTTYPE=image/png:https://bradfordforeveryone.co.uk/diversity-exchange/wp-content/uploads/2023/07/event-fallback.png
END:VEVENT
END:VCALENDAR