BEGIN:VCALENDAR
VERSION:2.0
PRODID:-//Diversity Exchange - ECPv6.5.1.5//NONSGML v1.0//EN
CALSCALE:GREGORIAN
METHOD:PUBLISH
X-ORIGINAL-URL:https://bradfordforeveryone.co.uk/diversity-exchange
X-WR-CALDESC:Events for Diversity Exchange
REFRESH-INTERVAL;VALUE=DURATION:PT1H
X-Robots-Tag:noindex
X-PUBLISHED-TTL:PT1H
BEGIN:VTIMEZONE
TZID:Europe/London
BEGIN:DAYLIGHT
TZOFFSETFROM:+0000
TZOFFSETTO:+0100
TZNAME:BST
DTSTART:20240331T010000
END:DAYLIGHT
BEGIN:STANDARD
TZOFFSETFROM:+0100
TZOFFSETTO:+0000
TZNAME:GMT
DTSTART:20241027T010000
END:STANDARD
BEGIN:DAYLIGHT
TZOFFSETFROM:+0000
TZOFFSETTO:+0100
TZNAME:BST
DTSTART:20250330T010000
END:DAYLIGHT
BEGIN:STANDARD
TZOFFSETFROM:+0100
TZOFFSETTO:+0000
TZNAME:GMT
DTSTART:20251026T010000
END:STANDARD
END:VTIMEZONE
BEGIN:VEVENT
DTSTART;VALUE=DATE:20241218
DTEND;VALUE=DATE:20241219
DTSTAMP:20260421T031908
CREATED:20240108T112203Z
LAST-MODIFIED:20240108T112203Z
UID:838-1734480000-1734566399@bradfordforeveryone.co.uk
SUMMARY:International Migrants Day
DESCRIPTION:International Migrants Day – The day is observed in many countries through sharing information on the human rights and fundamental political freedom of migrants\, and by sharing the experiences.
URL:https://bradfordforeveryone.co.uk/diversity-exchange/event/international-migrants-day/
ATTACH;FMTTYPE=image/png:https://bradfordforeveryone.co.uk/diversity-exchange/wp-content/uploads/2023/07/event-fallback.png
END:VEVENT
BEGIN:VEVENT
DTSTART;VALUE=DATE:20241225
DTEND;VALUE=DATE:20241226
DTSTAMP:20260421T031908
CREATED:20240108T112220Z
LAST-MODIFIED:20240108T112220Z
UID:840-1735084800-1735171199@bradfordforeveryone.co.uk
SUMMARY:Christmas
DESCRIPTION:Christmas –  (Christianity – Some Orthodox – 7 January) A Christian holiday celebrating the birth of Jesus Christ\, which has also evolved into a global cultural event\, offering a platform to discuss the commercialization and universal themes of peace and goodwill.
URL:https://bradfordforeveryone.co.uk/diversity-exchange/event/christmas/
ATTACH;FMTTYPE=image/png:https://bradfordforeveryone.co.uk/diversity-exchange/wp-content/uploads/2023/07/event-fallback.png
END:VEVENT
BEGIN:VEVENT
DTSTART;VALUE=DATE:20241225
DTEND;VALUE=DATE:20250103
DTSTAMP:20260421T031908
CREATED:20240108T112246Z
LAST-MODIFIED:20240108T112246Z
UID:842-1735084800-1735862399@bradfordforeveryone.co.uk
SUMMARY:Hanukkah
DESCRIPTION:Hanukkah – An eight-day Jewish festival of lights\, offering an opportunity to explore Jewish traditions\, resilience\, and their impact on global culture.
URL:https://bradfordforeveryone.co.uk/diversity-exchange/event/hanukkah/
ATTACH;FMTTYPE=image/png:https://bradfordforeveryone.co.uk/diversity-exchange/wp-content/uploads/2023/07/event-fallback.png
END:VEVENT
END:VCALENDAR