BEGIN:VCALENDAR
VERSION:2.0
PRODID:-//Diversity Exchange - ECPv6.5.1.5//NONSGML v1.0//EN
CALSCALE:GREGORIAN
METHOD:PUBLISH
X-ORIGINAL-URL:https://bradfordforeveryone.co.uk/diversity-exchange
X-WR-CALDESC:Events for Diversity Exchange
REFRESH-INTERVAL;VALUE=DURATION:PT1H
X-Robots-Tag:noindex
X-PUBLISHED-TTL:PT1H
BEGIN:VTIMEZONE
TZID:Europe/London
BEGIN:DAYLIGHT
TZOFFSETFROM:+0000
TZOFFSETTO:+0100
TZNAME:BST
DTSTART:20240331T010000
END:DAYLIGHT
BEGIN:STANDARD
TZOFFSETFROM:+0100
TZOFFSETTO:+0000
TZNAME:GMT
DTSTART:20241027T010000
END:STANDARD
END:VTIMEZONE
BEGIN:VEVENT
DTSTART;VALUE=DATE:20240407
DTEND;VALUE=DATE:20240408
DTSTAMP:20260420T224626
CREATED:20240108T102335Z
LAST-MODIFIED:20240108T102335Z
UID:676-1712448000-1712534399@bradfordforeveryone.co.uk
SUMMARY:World Health Day
DESCRIPTION:World Health Day – A day to focus on global health issues\, advocating for equal access to healthcare services for everyone\, everywhere.
URL:https://bradfordforeveryone.co.uk/diversity-exchange/event/world-health-day/
ATTACH;FMTTYPE=image/png:https://bradfordforeveryone.co.uk/diversity-exchange/wp-content/uploads/2023/07/event-fallback.png
END:VEVENT
BEGIN:VEVENT
DTSTART;VALUE=DATE:20240402
DTEND;VALUE=DATE:20240403
DTSTAMP:20260420T224626
CREATED:20240108T102441Z
LAST-MODIFIED:20240108T102441Z
UID:680-1712016000-1712102399@bradfordforeveryone.co.uk
SUMMARY:World Autism Day
DESCRIPTION:World Autism Day – A day to increase understanding and acceptance of people with autism\, celebrating their unique talents and contributions.
URL:https://bradfordforeveryone.co.uk/diversity-exchange/event/world-autism-day/
ATTACH;FMTTYPE=image/png:https://bradfordforeveryone.co.uk/diversity-exchange/wp-content/uploads/2023/07/event-fallback.png
END:VEVENT
BEGIN:VEVENT
DTSTART;VALUE=DATE:20240401
DTEND;VALUE=DATE:20240501
DTSTAMP:20260420T224626
CREATED:20240108T102405Z
LAST-MODIFIED:20240108T102405Z
UID:678-1711929600-1714521599@bradfordforeveryone.co.uk
SUMMARY:Stress Awareness Month
DESCRIPTION:Stress Awareness Month – is to increase public awareness about both the causes and cures the modern stress epidemic.
URL:https://bradfordforeveryone.co.uk/diversity-exchange/event/stress-awareness-month/
ATTACH;FMTTYPE=image/png:https://bradfordforeveryone.co.uk/diversity-exchange/wp-content/uploads/2023/07/event-fallback.png
END:VEVENT
BEGIN:VEVENT
DTSTART;VALUE=DATE:20240331
DTEND;VALUE=DATE:20240401
DTSTAMP:20260420T224626
CREATED:20240108T101848Z
LAST-MODIFIED:20240108T101848Z
UID:674-1711843200-1711929599@bradfordforeveryone.co.uk
SUMMARY:Trans day of Visibility
DESCRIPTION:Trans day of Visibility – A day to honour the transgender and non-binary communities\, celebrating their resilience while also raising awareness about the discrimination they still face.
URL:https://bradfordforeveryone.co.uk/diversity-exchange/event/trans-day-of-visibility/
ATTACH;FMTTYPE=image/png:https://bradfordforeveryone.co.uk/diversity-exchange/wp-content/uploads/2023/07/event-fallback.png
END:VEVENT
BEGIN:VEVENT
DTSTART;VALUE=DATE:20240331
DTEND;VALUE=DATE:20240401
DTSTAMP:20260420T224626
CREATED:20240108T101808Z
LAST-MODIFIED:20240108T101808Z
UID:672-1711843200-1711929599@bradfordforeveryone.co.uk
SUMMARY:Easter Day
DESCRIPTION:Easter Day (Christianity – Some Orthodox – 5 May) – celebrate the resurrection of Jesus three days after his death by crucifixion. This is a public holiday in the UK.
URL:https://bradfordforeveryone.co.uk/diversity-exchange/event/easter-day/
ATTACH;FMTTYPE=image/png:https://bradfordforeveryone.co.uk/diversity-exchange/wp-content/uploads/2023/07/event-fallback.png
END:VEVENT
BEGIN:VEVENT
DTSTART;VALUE=DATE:20240329
DTEND;VALUE=DATE:20240330
DTSTAMP:20260420T224626
CREATED:20240108T101734Z
LAST-MODIFIED:20240108T101734Z
UID:670-1711670400-1711756799@bradfordforeveryone.co.uk
SUMMARY:Good Friday
DESCRIPTION:Good Friday (Christianity – Some Orthodox – 3 May) The holy day commemorating the crucifixion of Jesus. It is observed during Holy Week on the Friday preceding Easter Sunday\, and may coincide with the Jewish observance of Passover
URL:https://bradfordforeveryone.co.uk/diversity-exchange/event/good-friday/
ATTACH;FMTTYPE=image/png:https://bradfordforeveryone.co.uk/diversity-exchange/wp-content/uploads/2023/07/event-fallback.png
END:VEVENT
BEGIN:VEVENT
DTSTART;VALUE=DATE:20240324
DTEND;VALUE=DATE:20240331
DTSTAMP:20260420T224626
CREATED:20240108T101715Z
LAST-MODIFIED:20240108T101715Z
UID:668-1711238400-1711843199@bradfordforeveryone.co.uk
SUMMARY:Holy Week
DESCRIPTION:Holy Week (Christianity – Some Orthodox – 24 March-1 April) –\nThe most solemn week of the Christian year\, Holy Week is the week during which Christians remember the last week of Jesus’s life. “
URL:https://bradfordforeveryone.co.uk/diversity-exchange/event/holy-week/
ATTACH;FMTTYPE=image/png:https://bradfordforeveryone.co.uk/diversity-exchange/wp-content/uploads/2023/07/event-fallback.png
END:VEVENT
BEGIN:VEVENT
DTSTART;VALUE=DATE:20240324
DTEND;VALUE=DATE:20240331
DTSTAMP:20260420T224626
CREATED:20240108T101640Z
LAST-MODIFIED:20240108T101640Z
UID:666-1711238400-1711843199@bradfordforeveryone.co.uk
SUMMARY:Holi
DESCRIPTION:Holi (Hindu – although date may change) – A Hindu festival of colours celebrating the arrival of spring and the triumph of good over evil\, marked by joyful gatherings and colour-throwing.
URL:https://bradfordforeveryone.co.uk/diversity-exchange/event/holi/
ATTACH;FMTTYPE=image/png:https://bradfordforeveryone.co.uk/diversity-exchange/wp-content/uploads/2023/07/event-fallback.png
END:VEVENT
BEGIN:VEVENT
DTSTART;VALUE=DATE:20240324
DTEND;VALUE=DATE:20240325
DTSTAMP:20260420T224626
CREATED:20240108T101606Z
LAST-MODIFIED:20240108T101606Z
UID:664-1711238400-1711324799@bradfordforeveryone.co.uk
SUMMARY:Palm Sunday
DESCRIPTION:Palm Sunday (Christian – Some Orthodox – 28 April) A Christian holy day that falls on the Sunday before Easter\, to commemorate Jesus’ triumphal entry into Jerusalem
URL:https://bradfordforeveryone.co.uk/diversity-exchange/event/palm-sunday/
ATTACH;FMTTYPE=image/png:https://bradfordforeveryone.co.uk/diversity-exchange/wp-content/uploads/2023/07/event-fallback.png
END:VEVENT
BEGIN:VEVENT
DTSTART;VALUE=DATE:20240321
DTEND;VALUE=DATE:20240322
DTSTAMP:20260420T224626
CREATED:20240108T101536Z
LAST-MODIFIED:20240108T101536Z
UID:662-1710979200-1711065599@bradfordforeveryone.co.uk
SUMMARY:International Day for the Elimination of Racial Discrimination
DESCRIPTION:International Day for the Elimination of Racial Discrimination – A day focused on combating racial discrimination and promoting unity and equal opportunity for all.
URL:https://bradfordforeveryone.co.uk/diversity-exchange/event/international-day-for-the-elimination-of-racial-discrimination/
ATTACH;FMTTYPE=image/png:https://bradfordforeveryone.co.uk/diversity-exchange/wp-content/uploads/2023/07/event-fallback.png
END:VEVENT
BEGIN:VEVENT
DTSTART;VALUE=DATE:20240321
DTEND;VALUE=DATE:20240322
DTSTAMP:20260420T224626
CREATED:20240108T101511Z
LAST-MODIFIED:20240108T101511Z
UID:660-1710979200-1711065599@bradfordforeveryone.co.uk
SUMMARY:World Down Syndrome Day
DESCRIPTION:World Down Syndrome Day – is to raise public awareness of Down Syndrome. The theme for 2024 is to #endthestereotypes. https://www.worlddownsyndromeday.org/
URL:https://bradfordforeveryone.co.uk/diversity-exchange/event/world-down-syndrome-day/
ATTACH;FMTTYPE=image/png:https://bradfordforeveryone.co.uk/diversity-exchange/wp-content/uploads/2023/07/event-fallback.png
END:VEVENT
BEGIN:VEVENT
DTSTART;VALUE=DATE:20240318
DTEND;VALUE=DATE:20240325
DTSTAMP:20260420T224626
CREATED:20240108T101426Z
LAST-MODIFIED:20240108T101426Z
UID:658-1710720000-1711324799@bradfordforeveryone.co.uk
SUMMARY:Neurodiversity Celebration Week
DESCRIPTION:Neurodiversity Celebration Week – is a worldwide initiative that challenges stereotypes and misconceptions about neurological differences. It is time to recognise the many strengths and talents that come from thinking and perceiving the world differently. By celebrating the strengths of neurodivergent individuals\, we can begin the seismic shift of changing the way neurodivergent individuals are perceived and supported\, empowering them to achieve their potential. https://www.neurodiversityweek.com/
URL:https://bradfordforeveryone.co.uk/diversity-exchange/event/neurodiversity-celebration-week/
ATTACH;FMTTYPE=image/png:https://bradfordforeveryone.co.uk/diversity-exchange/wp-content/uploads/2023/07/event-fallback.png
END:VEVENT
BEGIN:VEVENT
DTSTART;VALUE=DATE:20240313
DTEND;VALUE=DATE:20240320
DTSTAMP:20260420T224626
CREATED:20240108T101345Z
LAST-MODIFIED:20240108T101345Z
UID:656-1710288000-1710892799@bradfordforeveryone.co.uk
SUMMARY:Sign Language week
DESCRIPTION:Sign Language week- is organised by the British Deaf Association (BDA) to promote awareness of issues affecting sign-language users and\, more generally\, the welfare of Deaf people in the UK.The theme for 2024 is ‘Protecting BSL (and ISL)’.
URL:https://bradfordforeveryone.co.uk/diversity-exchange/event/sign-language-week/
ATTACH;FMTTYPE=image/png:https://bradfordforeveryone.co.uk/diversity-exchange/wp-content/uploads/2023/07/event-fallback.png
END:VEVENT
BEGIN:VEVENT
DTSTART;VALUE=DATE:20240309
DTEND;VALUE=DATE:20240410
DTSTAMP:20260420T224626
CREATED:20240108T101314Z
LAST-MODIFIED:20240202T105543Z
UID:654-1709942400-1712707199@bradfordforeveryone.co.uk
SUMMARY:Ramadan
DESCRIPTION:Ramadan (Muslim)- (Could start a day before or day later as depdendent on the sighting of the moon). The start of a sacred month in Islam where fasting from dawn to sunset\, reflection\, and community are emphasized.
URL:https://bradfordforeveryone.co.uk/diversity-exchange/event/ramadan/
ATTACH;FMTTYPE=image/png:https://bradfordforeveryone.co.uk/diversity-exchange/wp-content/uploads/2023/07/event-fallback.png
END:VEVENT
BEGIN:VEVENT
DTSTART;VALUE=DATE:20240308
DTEND;VALUE=DATE:20240309
DTSTAMP:20260420T224626
CREATED:20240108T101237Z
LAST-MODIFIED:20240108T101237Z
UID:652-1709856000-1709942399@bradfordforeveryone.co.uk
SUMMARY:Maha Shivratri
DESCRIPTION:Maha Shivratri (Hindu) – A festival dedicated to the worship of Lord Shiva\, Hindu God\, on the 13th or 14th day of the Hindu month of Maagha or Phalguna.
URL:https://bradfordforeveryone.co.uk/diversity-exchange/event/maha-shivratri/
ATTACH;FMTTYPE=image/png:https://bradfordforeveryone.co.uk/diversity-exchange/wp-content/uploads/2023/07/event-fallback.png
END:VEVENT
BEGIN:VEVENT
DTSTART;VALUE=DATE:20240304
DTEND;VALUE=DATE:20240311
DTSTAMP:20260420T224626
CREATED:20240108T101140Z
LAST-MODIFIED:20240108T101140Z
UID:650-1709510400-1710115199@bradfordforeveryone.co.uk
SUMMARY:No More Week
DESCRIPTION:No More Week (Domestic Abuse) – is a national campaign to raise awareness to end domestic abuse and sexual violence across the UK.
URL:https://bradfordforeveryone.co.uk/diversity-exchange/event/no-more-week/
ATTACH;FMTTYPE=image/png:https://bradfordforeveryone.co.uk/diversity-exchange/wp-content/uploads/2023/07/event-fallback.png
END:VEVENT
BEGIN:VEVENT
DTSTART;VALUE=DATE:20240304
DTEND;VALUE=DATE:20240310
DTSTAMP:20260420T224626
CREATED:20240108T101013Z
LAST-MODIFIED:20240108T101018Z
UID:647-1709510400-1710028799@bradfordforeveryone.co.uk
SUMMARY:National Careers Week
DESCRIPTION:National Careers Week -is a celebration of careers guidance and free resources in education across the UK. https://nationalcareersweek.com/
URL:https://bradfordforeveryone.co.uk/diversity-exchange/event/national-careers-week/
ATTACH;FMTTYPE=image/png:https://bradfordforeveryone.co.uk/diversity-exchange/wp-content/uploads/2023/07/event-fallback.png
END:VEVENT
BEGIN:VEVENT
DTSTART;VALUE=DATE:20240301
DTEND;VALUE=DATE:20240401
DTSTAMP:20260420T224626
CREATED:20240304T142457Z
LAST-MODIFIED:20240304T142457Z
UID:1033-1709251200-1711929599@bradfordforeveryone.co.uk
SUMMARY:Muslim Heritage Month
DESCRIPTION:To celebrate and raise awareness about the significant contributions and cultural richness of Muslim women in Britain\, with the goal of challenging negative stereotypes\, fostering improved understanding\, and cultivating greater empathy and inclusion towards Muslim communities within the broader society.
URL:https://bradfordforeveryone.co.uk/diversity-exchange/event/muslim-heritage-month/
ATTACH;FMTTYPE=image/png:https://bradfordforeveryone.co.uk/diversity-exchange/wp-content/uploads/2023/07/event-fallback.png
END:VEVENT
BEGIN:VEVENT
DTSTART;VALUE=DATE:20240301
DTEND;VALUE=DATE:20240401
DTSTAMP:20260420T224626
CREATED:20240108T100936Z
LAST-MODIFIED:20240108T100936Z
UID:645-1709251200-1711929599@bradfordforeveryone.co.uk
SUMMARY:Women's History Month
DESCRIPTION:Women’s History Month – is an annual declared month that highlights the contributions of women to events in history and contemporary society.The theme for 2024 celebrates “Women Who Advocate for Equity\, Diversity and Inclusion.” The theme recognizes women throughout the country who understand that\, for a positive future\, we need to eliminate bias and discrimination entirely from our lives and institutions.This coincides with International Womens Day which takes place on the 8 March 2024 – A day dedicated to celebrating the achievements of women globally and advocating for gender equality across all sectors. The theme for 2024 is #InspireInclusion to collectively forge a more inclusive world for women. https://www.internationalwomensday.com/
URL:https://bradfordforeveryone.co.uk/diversity-exchange/event/womens-history-month/
ATTACH;FMTTYPE=image/png:https://bradfordforeveryone.co.uk/diversity-exchange/wp-content/uploads/2023/07/event-fallback.png
END:VEVENT
BEGIN:VEVENT
DTSTART;VALUE=DATE:20240301
DTEND;VALUE=DATE:20240302
DTSTAMP:20260420T224626
CREATED:20240108T100905Z
LAST-MODIFIED:20240108T100905Z
UID:643-1709251200-1709337599@bradfordforeveryone.co.uk
SUMMARY:Zero Discrimination Day
DESCRIPTION:Zero Discrimination Day – Highlights how people can become informed about and promote inclusion\, compassion\, peace and\, above all\, a movement for change. The theme this year is “Save lives: Decriminalise” https://www.unaids.org/en/zero-discrimination-day
URL:https://bradfordforeveryone.co.uk/diversity-exchange/event/zero-discrimination-day/
ATTACH;FMTTYPE=image/png:https://bradfordforeveryone.co.uk/diversity-exchange/wp-content/uploads/2023/07/event-fallback.png
END:VEVENT
BEGIN:VEVENT
DTSTART;VALUE=DATE:20240301
DTEND;VALUE=DATE:20240302
DTSTAMP:20260420T224626
CREATED:20240108T100805Z
LAST-MODIFIED:20240108T100805Z
UID:641-1709251200-1709337599@bradfordforeveryone.co.uk
SUMMARY:National Wheelchair Users Day
DESCRIPTION:National Wheelchair Users Day – is a time for wheelchair users to celebrate the positive impact that these important tools offer to their lives.
URL:https://bradfordforeveryone.co.uk/diversity-exchange/event/national-wheelchair-users-day/
ATTACH;FMTTYPE=image/png:https://bradfordforeveryone.co.uk/diversity-exchange/wp-content/uploads/2023/07/event-fallback.png
END:VEVENT
BEGIN:VEVENT
DTSTART;VALUE=DATE:20240221
DTEND;VALUE=DATE:20240222
DTSTAMP:20260420T224626
CREATED:20240108T100712Z
LAST-MODIFIED:20240108T100712Z
UID:639-1708473600-1708559999@bradfordforeveryone.co.uk
SUMMARY:World Day of Social Justice
DESCRIPTION:World Day of Social Justice – A day to focus on fairness and equality\, advocating for social justice issues like poverty\, unemployment\, and human rights.
URL:https://bradfordforeveryone.co.uk/diversity-exchange/event/world-day-of-social-justice/
ATTACH;FMTTYPE=image/png:https://bradfordforeveryone.co.uk/diversity-exchange/wp-content/uploads/2023/07/event-fallback.png
END:VEVENT
BEGIN:VEVENT
DTSTART;VALUE=DATE:20240214
DTEND;VALUE=DATE:20240329
DTSTAMP:20260420T224626
CREATED:20240108T100526Z
LAST-MODIFIED:20240108T100526Z
UID:633-1707868800-1711670399@bradfordforeveryone.co.uk
SUMMARY:Lent
DESCRIPTION:Lent (Christianity) – Lent is a 40 day season of prayer\, fasting\, and almsgiving that begins on Ash Wednesday and ends at sundown on Holy Thursday. It’s a period of preparation to celebrate Jesus Christ Resurrection at Easter.
URL:https://bradfordforeveryone.co.uk/diversity-exchange/event/lent/
ATTACH;FMTTYPE=image/png:https://bradfordforeveryone.co.uk/diversity-exchange/wp-content/uploads/2023/07/event-fallback.png
END:VEVENT
BEGIN:VEVENT
DTSTART;VALUE=DATE:20240213
DTEND;VALUE=DATE:20240214
DTSTAMP:20260420T224626
CREATED:20240108T100458Z
LAST-MODIFIED:20240108T100458Z
UID:631-1707782400-1707868799@bradfordforeveryone.co.uk
SUMMARY:Shrove Tuesday
DESCRIPTION:Shrove Tuesday (Christianity)- UK tradition of Pancake Day\, also known as Shrove Tuesday\, which is the day before Lent begins. It is through participating in confession and absolution\, the ritual burning of the previous year’s Holy Week palms\, finalizing one’s Lenten sacrifice\, as well as eating pancakes and other sweets
URL:https://bradfordforeveryone.co.uk/diversity-exchange/event/shrove-tuesday/
ATTACH;FMTTYPE=image/png:https://bradfordforeveryone.co.uk/diversity-exchange/wp-content/uploads/2023/07/event-fallback.png
END:VEVENT
BEGIN:VEVENT
DTSTART;VALUE=DATE:20240211
DTEND;VALUE=DATE:20240212
DTSTAMP:20260420T224626
CREATED:20240108T100649Z
LAST-MODIFIED:20240108T100649Z
UID:637-1707609600-1707695999@bradfordforeveryone.co.uk
SUMMARY:International Day of Women and Girls in Science
DESCRIPTION:International Day of Women and Girls in Science – A day to recognize and celebrate the critical role women and girls play in science and technology\, aiming for greater equity in these fields.
URL:https://bradfordforeveryone.co.uk/diversity-exchange/event/international-day-of-women-and-girls-in-science/
ATTACH;FMTTYPE=image/png:https://bradfordforeveryone.co.uk/diversity-exchange/wp-content/uploads/2023/07/event-fallback.png
END:VEVENT
BEGIN:VEVENT
DTSTART;VALUE=DATE:20240210
DTEND;VALUE=DATE:20240211
DTSTAMP:20260420T224626
CREATED:20240108T100552Z
LAST-MODIFIED:20240108T100552Z
UID:635-1707523200-1707609599@bradfordforeveryone.co.uk
SUMMARY:Lunar New Year
DESCRIPTION:Lunar New Year – The start of the new year on the lunar calendar\, a big celebration for many East Asian cultures.
URL:https://bradfordforeveryone.co.uk/diversity-exchange/event/lunar-new-year/
ATTACH;FMTTYPE=image/png:https://bradfordforeveryone.co.uk/diversity-exchange/wp-content/uploads/2023/07/event-fallback.png
END:VEVENT
BEGIN:VEVENT
DTSTART;VALUE=DATE:20240210
DTEND;VALUE=DATE:20240211
DTSTAMP:20260420T224626
CREATED:20240108T100413Z
LAST-MODIFIED:20240108T100413Z
UID:629-1707523200-1707609599@bradfordforeveryone.co.uk
SUMMARY:Chinese New Year
DESCRIPTION:Chinese New Year marks the year of the Dragon\, a symbol of power and luck.
URL:https://bradfordforeveryone.co.uk/diversity-exchange/event/chinese-new-year/
ATTACH;FMTTYPE=image/png:https://bradfordforeveryone.co.uk/diversity-exchange/wp-content/uploads/2023/07/event-fallback.png
END:VEVENT
BEGIN:VEVENT
DTSTART;VALUE=DATE:20240207
DTEND;VALUE=DATE:20240214
DTSTAMP:20260420T224626
CREATED:20240108T095720Z
LAST-MODIFIED:20240108T095720Z
UID:627-1707264000-1707868799@bradfordforeveryone.co.uk
SUMMARY:Childrens Mental Health Week
DESCRIPTION:Childrens Mental Health Week – is a mental health awareness week that empowers\, equips and gives a voice to all children and young people in the UK. The theme this year is ‘My Voice Matters’.
URL:https://bradfordforeveryone.co.uk/diversity-exchange/event/childrens-mental-health-week/
ATTACH;FMTTYPE=image/png:https://bradfordforeveryone.co.uk/diversity-exchange/wp-content/uploads/2023/07/event-fallback.png
END:VEVENT
BEGIN:VEVENT
DTSTART;VALUE=DATE:20240205
DTEND;VALUE=DATE:20240212
DTSTAMP:20260420T224626
CREATED:20240108T095631Z
LAST-MODIFIED:20240108T095631Z
UID:625-1707091200-1707695999@bradfordforeveryone.co.uk
SUMMARY:National Apprenticeship Week
DESCRIPTION:National Apprenticeship Week -The week brings together everyone passionate about apprenticeships to celebrate the value\, benefit and opportunity that they bring. The theme this year is ‘Skills for Life’.
URL:https://bradfordforeveryone.co.uk/diversity-exchange/event/national-apprenticeship-week/
ATTACH;FMTTYPE=image/png:https://bradfordforeveryone.co.uk/diversity-exchange/wp-content/uploads/2023/07/event-fallback.png
END:VEVENT
BEGIN:VEVENT
DTSTART;VALUE=DATE:20240205
DTEND;VALUE=DATE:20240212
DTSTAMP:20260420T224626
CREATED:20240108T095554Z
LAST-MODIFIED:20240205T155454Z
UID:623-1707091200-1707695999@bradfordforeveryone.co.uk
SUMMARY:Race Equality Week
DESCRIPTION:Race Equality Week – is an annual UK-wide movement uniting hundreds of thousands of organisations and individuals to address the barriers to race equality in the workplace. The theme for 2024 is #ListenActChange recognising there is more we can do to end and eliminate race inequality in the workplace.
URL:https://bradfordforeveryone.co.uk/diversity-exchange/event/race-equality-week/
ATTACH;FMTTYPE=image/png:https://bradfordforeveryone.co.uk/diversity-exchange/wp-content/uploads/2023/07/event-fallback.png
END:VEVENT
END:VCALENDAR