BEGIN:VCALENDAR
VERSION:2.0
PRODID:-//Diversity Exchange - ECPv6.5.1.5//NONSGML v1.0//EN
CALSCALE:GREGORIAN
METHOD:PUBLISH
X-WR-CALNAME:Diversity Exchange
X-ORIGINAL-URL:https://bradfordforeveryone.co.uk/diversity-exchange
X-WR-CALDESC:Events for Diversity Exchange
REFRESH-INTERVAL;VALUE=DURATION:PT1H
X-Robots-Tag:noindex
X-PUBLISHED-TTL:PT1H
BEGIN:VTIMEZONE
TZID:Europe/London
BEGIN:DAYLIGHT
TZOFFSETFROM:+0000
TZOFFSETTO:+0100
TZNAME:BST
DTSTART:20240331T010000
END:DAYLIGHT
BEGIN:STANDARD
TZOFFSETFROM:+0100
TZOFFSETTO:+0000
TZNAME:GMT
DTSTART:20241027T010000
END:STANDARD
END:VTIMEZONE
BEGIN:VEVENT
DTSTART;VALUE=DATE:20240601
DTEND;VALUE=DATE:20240608
DTSTAMP:20260420T224220
CREATED:20240108T104350Z
LAST-MODIFIED:20240108T104350Z
UID:714-1717200000-1717804799@bradfordforeveryone.co.uk
SUMMARY:National Volunteer week
DESCRIPTION:National Volunteer week – to recognise the fantastic contribution volunteers make to our communities and to say thank you! The theme for 2024 is the #CelebrateService. https://volunteersweek.org/about-volunteers-week/
URL:https://bradfordforeveryone.co.uk/diversity-exchange/event/national-volunteer-week/
ATTACH;FMTTYPE=image/png:https://bradfordforeveryone.co.uk/diversity-exchange/wp-content/uploads/2023/07/event-fallback.png
END:VEVENT
BEGIN:VEVENT
DTSTART;VALUE=DATE:20240601
DTEND;VALUE=DATE:20240701
DTSTAMP:20260420T224220
CREATED:20240108T104504Z
LAST-MODIFIED:20240108T104504Z
UID:718-1717200000-1719791999@bradfordforeveryone.co.uk
SUMMARY:Gypsy\, traveller and Roma Month
DESCRIPTION:Gypsy\, traveller and Roma Month – celebrates the richness that Gypsy\, Roma and Traveller communities bring to peoples everyday lives here in the UK\, and the many and varied contributions they have made to British Society. The theme for 2024 is “Weaving Journeys: A celebration of Gypsy\, Roma and Traveller lives\, histories and cultures“
URL:https://bradfordforeveryone.co.uk/diversity-exchange/event/gypsy-traveller-and-roma-month/
ATTACH;FMTTYPE=image/png:https://bradfordforeveryone.co.uk/diversity-exchange/wp-content/uploads/2023/07/event-fallback.png
END:VEVENT
BEGIN:VEVENT
DTSTART;VALUE=DATE:20240610
DTEND;VALUE=DATE:20240617
DTSTAMP:20260420T224220
CREATED:20240108T104529Z
LAST-MODIFIED:20240108T104529Z
UID:720-1717977600-1718582399@bradfordforeveryone.co.uk
SUMMARY:Carers Week
DESCRIPTION:Carers Week -is an annual campaign to raise awareness of caring\, highlighting the challenges unpaid carers face and recognise the contribution they make to families and communities throughout the UK. The theme for 2024 is ‘Recognising and supporting carers in the community’. https://www.carersuk.org/news-and-campaigns/our-campaigns/carers-week/
URL:https://bradfordforeveryone.co.uk/diversity-exchange/event/carers-week/
ATTACH;FMTTYPE=image/png:https://bradfordforeveryone.co.uk/diversity-exchange/wp-content/uploads/2023/07/event-fallback.png
END:VEVENT
BEGIN:VEVENT
DTSTART;VALUE=DATE:20240616
DTEND;VALUE=DATE:20240619
DTSTAMP:20260420T224220
CREATED:20240108T105003Z
LAST-MODIFIED:20240108T105003Z
UID:734-1718496000-1718755199@bradfordforeveryone.co.uk
SUMMARY:Eid al-Adha
DESCRIPTION:Eid al-Adha (Muslim – Can change a day earlier or later due to the sighting of the moon) – One of the holiest days in Islam\, Eid al-Adha commemorates Ibrahim’s (Abraham’s) willingness to sacrifice his son for God\, marked by prayers\, charity\, and community gatherings.
URL:https://bradfordforeveryone.co.uk/diversity-exchange/event/eid-al-adha/
ATTACH;FMTTYPE=image/png:https://bradfordforeveryone.co.uk/diversity-exchange/wp-content/uploads/2023/07/event-fallback.png
END:VEVENT
BEGIN:VEVENT
DTSTART;VALUE=DATE:20240620
DTEND;VALUE=DATE:20240621
DTSTAMP:20260420T224220
CREATED:20240108T105139Z
LAST-MODIFIED:20240108T105139Z
UID:742-1718841600-1718927999@bradfordforeveryone.co.uk
SUMMARY:World Refugee Day
DESCRIPTION:World Refugee Day – is a global observance that seeks to raise awareness and show support for the millions of refugees worldwide who flee conflict\, persecution\, and hardship in search of safety and dignity.
URL:https://bradfordforeveryone.co.uk/diversity-exchange/event/world-refugee-day/
ATTACH;FMTTYPE=image/png:https://bradfordforeveryone.co.uk/diversity-exchange/wp-content/uploads/2023/07/event-fallback.png
END:VEVENT
BEGIN:VEVENT
DTSTART;VALUE=DATE:20240621
DTEND;VALUE=DATE:20240622
DTSTAMP:20260420T224220
CREATED:20240108T105215Z
LAST-MODIFIED:20240108T105215Z
UID:744-1718928000-1719014399@bradfordforeveryone.co.uk
SUMMARY:Humanist Day
DESCRIPTION:Humanist Day – is an opportunity for humanists and humanist organisations to publicise the positive values of Humanism and to share the global concerns of the Humanist movement.
URL:https://bradfordforeveryone.co.uk/diversity-exchange/event/humanist-day/
ATTACH;FMTTYPE=image/png:https://bradfordforeveryone.co.uk/diversity-exchange/wp-content/uploads/2023/07/event-fallback.png
END:VEVENT
BEGIN:VEVENT
DTSTART;VALUE=DATE:20240622
DTEND;VALUE=DATE:20240623
DTSTAMP:20260420T224220
CREATED:20240108T105240Z
LAST-MODIFIED:20240108T105240Z
UID:746-1719014400-1719100799@bradfordforeveryone.co.uk
SUMMARY:National Windrush Day
DESCRIPTION:National Windrush Day (although can be celebrated anytime of the year) – This marks the day when\, in 1948\, over 490 people from the Caribbean arrived in England to start new lives in the United Kingdom. In the subsequent years\, Britain invited many people from across the British Empire. On this day\, we pay our respects to the important contribution these people and their children have made to Britain.
URL:https://bradfordforeveryone.co.uk/diversity-exchange/event/national-windrush-day/
ATTACH;FMTTYPE=image/png:https://bradfordforeveryone.co.uk/diversity-exchange/wp-content/uploads/2023/07/event-fallback.png
END:VEVENT
BEGIN:VEVENT
DTSTART;VALUE=DATE:20240629
DTEND;VALUE=DATE:20240630
DTSTAMP:20260420T224220
CREATED:20240108T105348Z
LAST-MODIFIED:20240108T105348Z
UID:752-1719619200-1719705599@bradfordforeveryone.co.uk
SUMMARY:Armed Forces Day
DESCRIPTION:Armed Forces Day – is a chance to show your support for the men and women who make up the Armed Forces community: from currently serving troops to Service families\, veterans and cadets.
URL:https://bradfordforeveryone.co.uk/diversity-exchange/event/armed-forces-day/
ATTACH;FMTTYPE=image/png:https://bradfordforeveryone.co.uk/diversity-exchange/wp-content/uploads/2023/07/event-fallback.png
END:VEVENT
END:VCALENDAR