BEGIN:VCALENDAR
VERSION:2.0
PRODID:-//Diversity Exchange - ECPv6.5.1.5//NONSGML v1.0//EN
CALSCALE:GREGORIAN
METHOD:PUBLISH
X-WR-CALNAME:Diversity Exchange
X-ORIGINAL-URL:https://bradfordforeveryone.co.uk/diversity-exchange
X-WR-CALDESC:Events for Diversity Exchange
REFRESH-INTERVAL;VALUE=DURATION:PT1H
X-Robots-Tag:noindex
X-PUBLISHED-TTL:PT1H
BEGIN:VTIMEZONE
TZID:Europe/London
BEGIN:DAYLIGHT
TZOFFSETFROM:+0000
TZOFFSETTO:+0100
TZNAME:BST
DTSTART:20240331T010000
END:DAYLIGHT
BEGIN:STANDARD
TZOFFSETFROM:+0100
TZOFFSETTO:+0000
TZNAME:GMT
DTSTART:20241027T010000
END:STANDARD
END:VTIMEZONE
BEGIN:VEVENT
DTSTART;VALUE=DATE:20241101
DTEND;VALUE=DATE:20241201
DTSTAMP:20260420T152105
CREATED:20240108T111611Z
LAST-MODIFIED:20240108T111611Z
UID:810-1730419200-1733011199@bradfordforeveryone.co.uk
SUMMARY:Islamophobia Awareness Month
DESCRIPTION:Islamophobia Awareness Month – to showcase the positive contributions of Muslims as well as raise awareness of Islamophobia in society. https://www.islamophobia-awareness.org/
URL:https://bradfordforeveryone.co.uk/diversity-exchange/event/islamophobia-awareness-month/
ATTACH;FMTTYPE=image/png:https://bradfordforeveryone.co.uk/diversity-exchange/wp-content/uploads/2023/07/event-fallback.png
END:VEVENT
BEGIN:VEVENT
DTSTART;VALUE=DATE:20241112
DTEND;VALUE=DATE:20241120
DTSTAMP:20260420T152105
CREATED:20240108T111808Z
LAST-MODIFIED:20240108T111808Z
UID:820-1731369600-1732060799@bradfordforeveryone.co.uk
SUMMARY:Interfaith Week
DESCRIPTION:Interfaith Week – to celebrate co-operation and deepen friendship and understanding between faiths with a focus on environmental protection. https://www.interfaithweek.org/
URL:https://bradfordforeveryone.co.uk/diversity-exchange/event/interfaith-week/
ATTACH;FMTTYPE=image/png:https://bradfordforeveryone.co.uk/diversity-exchange/wp-content/uploads/2023/07/event-fallback.png
END:VEVENT
BEGIN:VEVENT
DTSTART;VALUE=DATE:20241116
DTEND;VALUE=DATE:20241217
DTSTAMP:20260420T152105
CREATED:20240108T111939Z
LAST-MODIFIED:20240108T111939Z
UID:826-1731715200-1734393599@bradfordforeveryone.co.uk
SUMMARY:Disability History Month
DESCRIPTION:Disability History Month – Is an annual event to raise awareness about disabled people’s fight for equality and human rights. It is an opportunity to reflect on the progress made for disability rights and to act on what we can do to support disability equality in the present https://ukdhm.org/
URL:https://bradfordforeveryone.co.uk/diversity-exchange/event/disability-history-month/
ATTACH;FMTTYPE=image/png:https://bradfordforeveryone.co.uk/diversity-exchange/wp-content/uploads/2023/07/event-fallback.png
END:VEVENT
BEGIN:VEVENT
DTSTART;VALUE=DATE:20241119
DTEND;VALUE=DATE:20241120
DTSTAMP:20260420T152105
CREATED:20240108T112002Z
LAST-MODIFIED:20240108T112002Z
UID:828-1731974400-1732060799@bradfordforeveryone.co.uk
SUMMARY:International Mens Day
DESCRIPTION:International Mens Day – focuses on men’s health\, improving gender relations\, highlighting male role models\, and promoting positive expressions of masculinity.
URL:https://bradfordforeveryone.co.uk/diversity-exchange/event/international-mens-day/
ATTACH;FMTTYPE=image/png:https://bradfordforeveryone.co.uk/diversity-exchange/wp-content/uploads/2023/07/event-fallback.png
END:VEVENT
BEGIN:VEVENT
DTSTART;VALUE=DATE:20241120
DTEND;VALUE=DATE:20241121
DTSTAMP:20260420T152105
CREATED:20240108T112051Z
LAST-MODIFIED:20240108T112051Z
UID:832-1732060800-1732147199@bradfordforeveryone.co.uk
SUMMARY:World Children's Day
DESCRIPTION:World Children’s Day is both a reminder and a celebration of the rights of children worldwide. In World Children’s Day 2024\, there’s a unique alignment with the UN Sustainable Development Goals (SDGs) to create an environment where every child can thrive..
URL:https://bradfordforeveryone.co.uk/diversity-exchange/event/world-childrens-day/
ATTACH;FMTTYPE=image/png:https://bradfordforeveryone.co.uk/diversity-exchange/wp-content/uploads/2023/07/event-fallback.png
END:VEVENT
BEGIN:VEVENT
DTSTART;VALUE=DATE:20241125
DTEND;VALUE=DATE:20241126
DTSTAMP:20260420T152105
CREATED:20240108T112117Z
LAST-MODIFIED:20240108T112117Z
UID:834-1732492800-1732579199@bradfordforeveryone.co.uk
SUMMARY:International Day for Elimination of Violence Against Women
DESCRIPTION:International Day for Elimination of Violence Against Women – A global day to combat gender-based violence\, emphasizing the pressing need for collective action and intersectional feminism. This also marks the 16 Days of Activism against Gender-Based Violence is an annual international campaign that kicks off on 25 November\, the International Day for the Elimination of Violence against Women\, and runs until 10 December\, Human Rights Day.
URL:https://bradfordforeveryone.co.uk/diversity-exchange/event/international-day-for-elimination-of-violence-against-women/
ATTACH;FMTTYPE=image/png:https://bradfordforeveryone.co.uk/diversity-exchange/wp-content/uploads/2023/07/event-fallback.png
END:VEVENT
END:VCALENDAR