BEGIN:VCALENDAR
VERSION:2.0
PRODID:-//Diversity Exchange - ECPv6.5.1.5//NONSGML v1.0//EN
CALSCALE:GREGORIAN
METHOD:PUBLISH
X-WR-CALNAME:Diversity Exchange
X-ORIGINAL-URL:https://bradfordforeveryone.co.uk/diversity-exchange
X-WR-CALDESC:Events for Diversity Exchange
REFRESH-INTERVAL;VALUE=DURATION:PT1H
X-Robots-Tag:noindex
X-PUBLISHED-TTL:PT1H
BEGIN:VTIMEZONE
TZID:Europe/London
BEGIN:DAYLIGHT
TZOFFSETFROM:+0000
TZOFFSETTO:+0100
TZNAME:BST
DTSTART:20240331T010000
END:DAYLIGHT
BEGIN:STANDARD
TZOFFSETFROM:+0100
TZOFFSETTO:+0000
TZNAME:GMT
DTSTART:20241027T010000
END:STANDARD
END:VTIMEZONE
BEGIN:VEVENT
DTSTART;VALUE=DATE:20240116
DTEND;VALUE=DATE:20240117
DTSTAMP:20260424T195810
CREATED:20240105T095331Z
LAST-MODIFIED:20240108T093804Z
UID:580-1705363200-1705449599@bradfordforeveryone.co.uk
SUMMARY:National Day of Racial Healing
DESCRIPTION:National Day of Racial Healing – is a time to reflect on our shared values and create a collaborative blueprint for #HowWeHeal from the effects of racism.
URL:https://bradfordforeveryone.co.uk/diversity-exchange/event/national-day-of-racial-healing/
ATTACH;FMTTYPE=image/png:https://bradfordforeveryone.co.uk/diversity-exchange/wp-content/uploads/2023/07/event-fallback.png
END:VEVENT
END:VCALENDAR