BEGIN:VCALENDAR
VERSION:2.0
PRODID:-//Diversity Exchange - ECPv6.5.1.5//NONSGML v1.0//EN
CALSCALE:GREGORIAN
METHOD:PUBLISH
X-ORIGINAL-URL:https://bradfordforeveryone.co.uk/diversity-exchange
X-WR-CALDESC:Events for Diversity Exchange
REFRESH-INTERVAL;VALUE=DURATION:PT1H
X-Robots-Tag:noindex
X-PUBLISHED-TTL:PT1H
BEGIN:VTIMEZONE
TZID:Europe/London
BEGIN:DAYLIGHT
TZOFFSETFROM:+0000
TZOFFSETTO:+0100
TZNAME:BST
DTSTART:20240331T010000
END:DAYLIGHT
BEGIN:STANDARD
TZOFFSETFROM:+0100
TZOFFSETTO:+0000
TZNAME:GMT
DTSTART:20241027T010000
END:STANDARD
END:VTIMEZONE
BEGIN:VEVENT
DTSTART;VALUE=DATE:20240205
DTEND;VALUE=DATE:20240212
DTSTAMP:20260424T200319
CREATED:20240108T095631Z
LAST-MODIFIED:20240108T095631Z
UID:625-1707091200-1707695999@bradfordforeveryone.co.uk
SUMMARY:National Apprenticeship Week
DESCRIPTION:National Apprenticeship Week -The week brings together everyone passionate about apprenticeships to celebrate the value\, benefit and opportunity that they bring. The theme this year is ‘Skills for Life’.
URL:https://bradfordforeveryone.co.uk/diversity-exchange/event/national-apprenticeship-week/
ATTACH;FMTTYPE=image/png:https://bradfordforeveryone.co.uk/diversity-exchange/wp-content/uploads/2023/07/event-fallback.png
END:VEVENT
BEGIN:VEVENT
DTSTART;VALUE=DATE:20240207
DTEND;VALUE=DATE:20240214
DTSTAMP:20260424T200319
CREATED:20240108T095720Z
LAST-MODIFIED:20240108T095720Z
UID:627-1707264000-1707868799@bradfordforeveryone.co.uk
SUMMARY:Childrens Mental Health Week
DESCRIPTION:Childrens Mental Health Week – is a mental health awareness week that empowers\, equips and gives a voice to all children and young people in the UK. The theme this year is ‘My Voice Matters’.
URL:https://bradfordforeveryone.co.uk/diversity-exchange/event/childrens-mental-health-week/
ATTACH;FMTTYPE=image/png:https://bradfordforeveryone.co.uk/diversity-exchange/wp-content/uploads/2023/07/event-fallback.png
END:VEVENT
END:VCALENDAR